BEGIN:VCALENDAR
VERSION:2.0
PRODID:-//Valérie Debord, photographe - ECPv5.16.4//NONSGML v1.0//EN
CALSCALE:GREGORIAN
METHOD:PUBLISH
X-ORIGINAL-URL:https://debord-photographie.id-entite.com
X-WR-CALDESC:évènements pour Valérie Debord, photographe
REFRESH-INTERVAL;VALUE=DURATION:PT1H
X-Robots-Tag:noindex
X-PUBLISHED-TTL:PT1H
BEGIN:VTIMEZONE
TZID:Europe/Paris
BEGIN:DAYLIGHT
TZOFFSETFROM:+0100
TZOFFSETTO:+0200
TZNAME:CEST
DTSTART:20140330T010000
END:DAYLIGHT
BEGIN:STANDARD
TZOFFSETFROM:+0200
TZOFFSETTO:+0100
TZNAME:CET
DTSTART:20141026T010000
END:STANDARD
END:VTIMEZONE
BEGIN:VEVENT
DTSTART;TZID=Europe/Paris:20141220T084500
DTEND;TZID=Europe/Paris:20141220T121500
DTSTAMP:20260420T084437
CREATED:20141116T163912Z
LAST-MODIFIED:20141116T163912Z
UID:1088-1419065100-1419077700@debord-photographie.id-entite.com
SUMMARY:AUX COULEURS DE L'HIVER / GRAND MONT
DESCRIPTION:
URL:https://debord-photographie.id-entite.com/event/aux-couleurs-de-lhiver-grand-mont/
LOCATION:Mairie St Gildas de Rhuys\, ST GILDAS DE RHUYS\, Morbihan\, 56730\, France
END:VEVENT
END:VCALENDAR